BEGIN:VCALENDAR
VERSION:2.0
PRODID:-//Light the Triad - ECPv4.7.2//NONSGML v1.0//EN
CALSCALE:GREGORIAN
METHOD:PUBLISH
X-WR-CALNAME:Light the Triad
X-ORIGINAL-URL:https://lightthetriad.com
X-WR-CALDESC:Events for Light the Triad
BEGIN:VEVENT
DTSTART;VALUE=DATE:20191101
DTEND;VALUE=DATE:20200101
DTSTAMP:20260421T123521
CREATED:20191106T212027Z
LAST-MODIFIED:20191106T212027Z
UID:1510-1572566400-1577836799@lightthetriad.com
SUMMARY:15th Annual Puppies for Patients
DESCRIPTION:Give joy. Give life.\nThis holiday season\, give the gift that costs nothing but is priceless to patients in need: LIFESAVING BLOOD.\nWith your help\, OneBlood hopes to bring smiles to the faces of hundreds of children spending the holidays in our local hospitals this year.\nOur 15th annual Puppies for Patients kicks off Nov. 1 and runs through Dec. 31.\nDonate blood or platelets at OneBlood’s North Carolina donation centers and mobile drives and you will have the opportunity to send a message that will then be attached to an adorable stuffed puppy.\nOneBlood will deliver those puppies to children in area hospitals in an effort to brighten their holidays! \n
URL:https://lightthetriad.com/event/15th-annual-puppies-for-patients/
LOCATION:OneBlood Mobiles and Donor Centers
END:VEVENT
BEGIN:VEVENT
DTSTART;VALUE=DATE:20191102
DTEND;VALUE=DATE:20191104
DTSTAMP:20260421T123521
CREATED:20191015T204722Z
LAST-MODIFIED:20191015T204722Z
UID:1484-1572652800-1572825599@lightthetriad.com
SUMMARY:Macedonia Voice of Deliverance 44th Choir Anniversary
DESCRIPTION:Join Us as Bishop Robert L. Wise\, Jr. and the Macedonia Voice of Deliverance Choir Celebrates 44th Choir Anniversary \n11/2/19 @6:00 p.m. and 11/3/2019 @4:00p.m. \n
URL:https://lightthetriad.com/event/macedonia-voice-of-deliverance-44th-choir-anniversary/
LOCATION:Macedonia Holiness Church of God of the Apostolic Faith\, Inc.\, 4111 Whitfield Rd\, Winston Salem\, NC\, 27105
END:VEVENT
BEGIN:VEVENT
DTSTART;TZID=America/New_York:20191103T170000
DTEND;TZID=America/New_York:20191103T200000
DTSTAMP:20260421T123521
CREATED:20191022T134625Z
LAST-MODIFIED:20191022T134625Z
UID:1491-1572800400-1572811200@lightthetriad.com
SUMMARY:An Evening with Pastor Ben Tankard
DESCRIPTION:Join Shalom Community Christian Church in celebrating their 20th Church Anniversary as they host\, “An Evening with Pastor Ben Tankard”. \nHe is Known as “The Godfather of Gospel Jazz\,” Pastor Tankard is a Grammy-nominated singer\, songwriter\, musician and producer. His most recent song\, “Rise!” was No. 1 on the Billboard Smooth Jazz chart. He and his wife pastor The Destiny Center in Murfreesboro\, TN\, and along with his family\, star in Bravo TV’s realty television show\, Thicker Than Water. \nFree and Open to the Public \n
URL:https://lightthetriad.com/event/an-evening-with-pastor-ben-tankard/
LOCATION:Shalom Community Christian Church\, 2227 Pinecroft Rd\, Greensboro\, NC\, 27407
END:VEVENT
END:VCALENDAR