BEGIN:VCALENDAR
VERSION:2.0
PRODID:-//Light the Triad - ECPv4.7.2//NONSGML v1.0//EN
CALSCALE:GREGORIAN
METHOD:PUBLISH
X-WR-CALNAME:Light the Triad
X-ORIGINAL-URL:https://lightthetriad.com
X-WR-CALDESC:Events for Light the Triad
BEGIN:VEVENT
DTSTART;TZID=America/New_York:20191026T150000
DTEND;TZID=America/New_York:20191026T170000
DTSTAMP:20260421T105348
CREATED:20190930T192453Z
LAST-MODIFIED:20190930T192453Z
UID:1457-1572102000-1572109200@lightthetriad.com
SUMMARY:Zion Memorial Missionary Baptist Church Annual Fall Festival
DESCRIPTION:You are invited to the Zion Memorial Missionary Baptist Church Fall Festival\, a Christian alternative to Halloween. It will be held on Saturday\, October 26 from 3:00-5:00. We will have hotdogs and hamburgers\, games and candy. This will be a fun night. Admission is Free. NO SCARY COSTUMES PLEASE \n
URL:https://lightthetriad.com/event/zion-memorial-missionary-baptist-church-annual-fall-festival/
LOCATION:Zion Memorial Missionary Baptist Church\, 101 North Dunleith Avenue\, Winston-Salem\, NC\, 27101
END:VEVENT
END:VCALENDAR