BEGIN:VCALENDAR
VERSION:2.0
PRODID:-//Light the Triad - ECPv4.7.2//NONSGML v1.0//EN
CALSCALE:GREGORIAN
METHOD:PUBLISH
X-WR-CALNAME:Light the Triad
X-ORIGINAL-URL:https://lightthetriad.com
X-WR-CALDESC:Events for Light the Triad
BEGIN:VEVENT
DTSTART;TZID=America/New_York:20191009T183000
DTEND;TZID=America/New_York:20191011T200000
DTSTAMP:20260421T110442
CREATED:20190930T192909Z
LAST-MODIFIED:20191001T144204Z
UID:1463-1570645800-1570824000@lightthetriad.com
SUMMARY:Fall Revival Service
DESCRIPTION:Calvary Baptist Church\, High Point\, NC\nTime: Starting at 6:30pm each night.\nRevivalist: Rev. Sammy J. Dow of\nPleasant Grove Baptist Church in Marietta\, GA.\nPlease come and join us as we celebrate in the name of our Lord and Savior Jesus Christ.\nCome and be revived and refreshed\, and let us rejoice as we worship in the Spirit of the Lord.\nCalvary is excited and we look forward to worshipping with you.\n#greatthingshappenatcalvary \n
URL:https://lightthetriad.com/event/fall-revival-service/
LOCATION:Calvary Baptist Church\, 808 Hilltop St\, High Point\, NC\, 27260
END:VEVENT
END:VCALENDAR