BEGIN:VCALENDAR
VERSION:2.0
PRODID:-//Light the Triad - ECPv4.7.2//NONSGML v1.0//EN
CALSCALE:GREGORIAN
METHOD:PUBLISH
X-WR-CALNAME:Light the Triad
X-ORIGINAL-URL:https://lightthetriad.com
X-WR-CALDESC:Events for Light the Triad
BEGIN:VEVENT
DTSTART;VALUE=DATE:20190814
DTEND;VALUE=DATE:20190825
DTSTAMP:20260422T221723
CREATED:20190815T200610Z
LAST-MODIFIED:20190815T200610Z
UID:1398-1565740800-1566691199@lightthetriad.com
SUMMARY:Belk Charity Day Sale
DESCRIPTION:We are excited to be part of the Belk Charity Sale Event this year! Belk’s Charity Sale Event is once a year and they highlight various nonprofits through each store. \nEvent Date: Saturday\, August 24th\, 2019 Time: All Day \nHow it works | Winston Salem Belk Store Managers gave us 200 of their Belk Charity Event $5 off Belk coupons! You donate $5 and receive the Belk coupon to use at the register (on August 24th at their huge event). It is good at ANY Belk store and….it IS that easy! 100% of the proceeds go to The Macedonia Holiness Church when you obtain one of these coupons from any of our members. \nIf you need a ticket for this event please contact Elder John Carter 336-918-2772 \nDonate $5 Get $5 High Five \n
URL:https://lightthetriad.com/event/belk-charity-day-sale/
END:VEVENT
BEGIN:VEVENT
DTSTART;TZID=America/New_York:20190819T190000
DTEND;TZID=America/New_York:20190821T210000
DTSTAMP:20260422T221723
CREATED:20190819T200715Z
LAST-MODIFIED:20190819T200715Z
UID:1404-1566241200-1566421200@lightthetriad.com
SUMMARY:3 Night Crusade
DESCRIPTION:Bishop Leroy Jackson will lead a 3 Night Crusade beginning Monday\, August 19th @ Triad Ministries COGIC\, 4894 McCracken Road\, Kernersville\, NC 27284\, then Tuesday\, August 20th @ Shiloh Holiness COGIC\, 200 East Vandalia Road\, Greensboro\, NC 27406\, and culminating on Wednesday\, August 21st @ Wells Memorial COGIC\, 1001 East Washington Street\, Greensboro\, NC 27401. \nAddress/Location – Monday\, August 19th @ Triad Ministries COGIC\, 4894 McCracken Road\, Kernersville\, NC 27284 \nTuesday\, August 20th @ Shiloh Holiness COGIC\, 200 East Vandalia Road\, Greensboro\, NC 27406 \nWednesday\, August 21st @ Wells Memorial COGIC\, 1001 East Washington Street\, Greensboro\, NC 27401. \n
URL:https://lightthetriad.com/event/3-night-crusade/
END:VEVENT
END:VCALENDAR