BEGIN:VCALENDAR
VERSION:2.0
PRODID:-//Light the Triad - ECPv4.7.2//NONSGML v1.0//EN
CALSCALE:GREGORIAN
METHOD:PUBLISH
X-WR-CALNAME:Light the Triad
X-ORIGINAL-URL:https://lightthetriad.com
X-WR-CALDESC:Events for Light the Triad
BEGIN:VEVENT
DTSTART;VALUE=DATE:20190315
DTEND;VALUE=DATE:20190318
DTSTAMP:20260424T152919
CREATED:20190122T160846Z
LAST-MODIFIED:20190122T160846Z
UID:1047-1552608000-1552867199@lightthetriad.com
SUMMARY:Zion Memorial Missionary Baptist Church Youth Summit 2019
DESCRIPTION:Youth Summit 2019: “Called To Be Different” Being a Christian in a Non-Christian World\nFriday March 15 – Bowling at Creekside Lanes\, 1450 Trade Mart Blvd Winston-Salem \nSaturday March 16 – Summit Sessions featuring Benita Brown (Discussion on priorities and Time Management; Dr. Ramona Griffin-Noble (Discussion on Self-Esteem)\, Valerie Bailey (Discussion on importance of prayer)\, Police Department discussion on cyber bullying\, physical bullying\, drugs and alcohol\, Special guest speaker: Rev. Terrence Hawkins (Discussion on “Called to be Different). \nMarch 17 – Guest speaker: Rev. Terrence Hawkins \n
URL:https://lightthetriad.com/event/zion-memorial-missionary-baptist-church-youth-summit-2019/
LOCATION:Zion Memorial Missionary Baptist Church\, 101 North Dunleith Ave.\, Winston-Salen\, NC\, United States
END:VEVENT
END:VCALENDAR