BEGIN:VCALENDAR
VERSION:2.0
PRODID:-//Light the Triad - ECPv4.7.2//NONSGML v1.0//EN
CALSCALE:GREGORIAN
METHOD:PUBLISH
X-WR-CALNAME:Light the Triad
X-ORIGINAL-URL:https://lightthetriad.com
X-WR-CALDESC:Events for Light the Triad
BEGIN:VEVENT
DTSTART;VALUE=DATE:20190504
DTEND;VALUE=DATE:20190505
DTSTAMP:20260423T170337
CREATED:20190430T185337Z
LAST-MODIFIED:20190430T185337Z
UID:1219-1556928000-1557014399@lightthetriad.com
SUMMARY:Zion Memorial Missionary Baptist Church Stroke Awareness Health Fair
DESCRIPTION:The Zion Memorial Missionary Baptist Church Nurses Ministry partners with Novant Health and Winston-Salem State University to invite the community to receive free Health and Wellness Screenings. \nMay is National Stroke Awareness Month. Valuable education and information on stroke prevention will be available\, as well as refreshments\, prizes and more! The WSSU Rams Know How Mobile Unit will be there giving free health screenings. \n
URL:https://lightthetriad.com/event/zion-memorial-missionary-baptist-church-stroke-awareness-health-fair/
LOCATION:Zion Memorial Missionary Baptist Church\, 101 North Dunleith Ave.\, Winston-Salem\, NC\, 27101
END:VEVENT
END:VCALENDAR