BEGIN:VCALENDAR
VERSION:2.0
PRODID:-//Light the Triad - ECPv4.7.2//NONSGML v1.0//EN
CALSCALE:GREGORIAN
METHOD:PUBLISH
X-WR-CALNAME:Light the Triad
X-ORIGINAL-URL:https://lightthetriad.com
X-WR-CALDESC:Events for Light the Triad
BEGIN:VEVENT
DTSTART;TZID=America/New_York:20190112T100000
DTEND;TZID=America/New_York:20190112T140000
DTSTAMP:20260425T003643
CREATED:20190102T152414Z
LAST-MODIFIED:20190102T152414Z
UID:994-1547287200-1547301600@lightthetriad.com
SUMMARY:Wellness Fair
DESCRIPTION:East Market Street Seventh-day Adventist Church has partnered with local health providers and wellness vendors to offer onsite health screenings\, wellness seminars\, DIY wellness classes\, cooking demonstrations\, kids fitness zone\, massages\, and food tasting FREE to the Greensboro community.  Physicians\, nutritionist\, and health coaches will be onsite to offer wellness advice for the new year.  The first 50 attendees will receive a gift and be entered into a grand drawing.  Event will launch an 8-week lifestyle change program and the Lose to Win weight loss challenge to encourage effective weight management\, lifestyle balance\, and equip individuals to successful keep their new year’s resolution wellness goals. \n
URL:https://lightthetriad.com/event/wellness-fair/
LOCATION:East Market St. Family Life Center\, 1804 East Market Street\, Greensboro\, NC\, 27401\, United States
ATTACH;FMTTYPE=image/png:https://lightthetriad.com/wp-content/uploads/2018/12/Screen-Shot-2019-01-02-at-10.26.26-AM.png
END:VEVENT
END:VCALENDAR