BEGIN:VCALENDAR
VERSION:2.0
PRODID:-//Light the Triad - ECPv4.7.2//NONSGML v1.0//EN
CALSCALE:GREGORIAN
METHOD:PUBLISH
X-WR-CALNAME:Light the Triad
X-ORIGINAL-URL:https://lightthetriad.com
X-WR-CALDESC:Events for Light the Triad
BEGIN:VEVENT
DTSTART;TZID=America/New_York:20190507T180000
DTEND;TZID=America/New_York:20190507T193000
DTSTAMP:20260423T153447
CREATED:20190408T183734Z
LAST-MODIFIED:20190408T183734Z
UID:1174-1557252000-1557257400@lightthetriad.com
SUMMARY:We Are Standing Strong: Breast Cancer Support Group
DESCRIPTION:This group is for anyone that is on the journey of dealing with any form of cancer and there caretakers.This group meets the 1st Tuesday of each month. Each month we meet with a different goal in mind\, to listen to our speakers\, to learn from one another\, do projects\, have fun and more. \n
URL:https://lightthetriad.com/event/we-are-standing-strong-breast-cancer-support-group/
LOCATION:SouthFork Community Center\, 4403 Country Club Road\, Winston-Salem\, NC\, 27104
END:VEVENT
END:VCALENDAR