BEGIN:VCALENDAR
VERSION:2.0
PRODID:-//Light the Triad - ECPv4.7.2//NONSGML v1.0//EN
CALSCALE:GREGORIAN
METHOD:PUBLISH
X-WR-CALNAME:Light the Triad
X-ORIGINAL-URL:https://lightthetriad.com
X-WR-CALDESC:Events for Light the Triad
BEGIN:VEVENT
DTSTART;TZID=America/New_York:20190625T100000
DTEND;TZID=America/New_York:20190625T170000
DTSTAMP:20260422T151230
CREATED:20190604T153004Z
LAST-MODIFIED:20190604T153004Z
UID:1295-1561456800-1561482000@lightthetriad.com
SUMMARY:Volunteer Orientation
DESCRIPTION:Older adults in the community need help with supportive services such as transportation\, minor home repairs\, visits or caregiver respite. We are especially in need of visitation volunteers to provide companionship to homebound older adults a few hours per month. Mileage reimbursement is offered. For a list of all of our volunteer opportunities visit our website\, www.shepherdscenter.org. For more information or to register for the session\, call The Shepherd’s Center at 336-748-0217 or email vpoore@shepherdscenter.org. \n
URL:https://lightthetriad.com/event/volunteer-orientation/
LOCATION:1700 Ebert St.\, Winston Salem\, NC 27103\, 1700 Ebert St.\, Winston Salem\, NC\, 27103
END:VEVENT
END:VCALENDAR