BEGIN:VCALENDAR
VERSION:2.0
PRODID:-//Light the Triad - ECPv4.7.2//NONSGML v1.0//EN
CALSCALE:GREGORIAN
METHOD:PUBLISH
X-WR-CALNAME:Light the Triad
X-ORIGINAL-URL:https://lightthetriad.com
X-WR-CALDESC:Events for Light the Triad
BEGIN:VEVENT
DTSTART;TZID=America/New_York:20190710T180000
DTEND;TZID=America/New_York:20190712T210000
DTSTAMP:20260422T104332
CREATED:20190626T194946Z
LAST-MODIFIED:20190626T194946Z
UID:1335-1562781600-1562965200@lightthetriad.com
SUMMARY:VBS MISSION: Possible
DESCRIPTION:Fresh Fire Worship Center Inc.\nBishop Phillip G. McCloud Sr.  And A.C.T.S. Christian Education will be host our annual VBS\, with teaching from the youth leaders of F.L.A.M.E.\nArts and crafts\, and recreational activities that will help children of all ages grow in christ. Serving dinner nightly.\nAdult classes provided\nAll children 4 years and under must have a parent/Guardian present to attend.\nTransportation provided upon request (336)833-4208 \n
URL:https://lightthetriad.com/event/vbs-mission-possible/
LOCATION:1538 Waughtown Street\, 1538 Waughtown Street\, Winston-Salem\, NC\, 27107
END:VEVENT
END:VCALENDAR