BEGIN:VCALENDAR
VERSION:2.0
PRODID:-//Light the Triad - ECPv4.7.2//NONSGML v1.0//EN
CALSCALE:GREGORIAN
METHOD:PUBLISH
X-WR-CALNAME:Light the Triad
X-ORIGINAL-URL:https://lightthetriad.com
X-WR-CALDESC:Events for Light the Triad
BEGIN:VEVENT
DTSTART;TZID=America/New_York:20190127T160000
DTEND;TZID=America/New_York:20190127T190000
DTSTAMP:20260424T230903
CREATED:20190117T152936Z
LAST-MODIFIED:20190117T152936Z
UID:1042-1548604800-1548615600@lightthetriad.com
SUMMARY:The Fire Concert
DESCRIPTION: \n
URL:https://lightthetriad.com/event/the-fire-concert/
END:VEVENT
END:VCALENDAR