BEGIN:VCALENDAR
VERSION:2.0
PRODID:-//Light the Triad - ECPv4.7.2//NONSGML v1.0//EN
CALSCALE:GREGORIAN
METHOD:PUBLISH
X-WR-CALNAME:Light the Triad
X-ORIGINAL-URL:https://lightthetriad.com
X-WR-CALDESC:Events for Light the Triad
BEGIN:VEVENT
DTSTART;TZID=America/New_York:20191109T100000
DTEND;TZID=America/New_York:20191109T160000
DTSTAMP:20260419T162904
CREATED:20190717T132340Z
LAST-MODIFIED:20190717T132517Z
UID:1355-1573293600-1573315200@lightthetriad.com
SUMMARY:S&S Event Matters
DESCRIPTION:Looking to get the word out or expand your business.  The Holiday Expo Extravaganza is a great opportunity for small business\, retailers\, service business\, crafters to share their talent and get more exposure. The expo will be held Saturday\, November 9\, 2019 at the Greensboro Regional Realtor Association Oak Branch Convention Center from 10:00 am – 4:00 pm.  For more information email sseventmatters@gmail.com \n
URL:https://lightthetriad.com/event/ss-event-matters/
LOCATION:Greensboro Regional Realtor Association\, 23 Oak Branch Dr.\, Greensboro\, NC
ORGANIZER;CN="":MAILTO:sseventmatters@gmail.com
END:VEVENT
END:VCALENDAR