BEGIN:VCALENDAR
VERSION:2.0
PRODID:-//Light the Triad - ECPv4.7.2//NONSGML v1.0//EN
CALSCALE:GREGORIAN
METHOD:PUBLISH
X-WR-CALNAME:Light the Triad
X-ORIGINAL-URL:https://lightthetriad.com
X-WR-CALDESC:Events for Light the Triad
BEGIN:VEVENT
DTSTART;VALUE=DATE:20190427
DTEND;VALUE=DATE:20190428
DTSTAMP:20260423T231620
CREATED:20190423T205633Z
LAST-MODIFIED:20190423T205633Z
UID:1205-1556323200-1556409599@lightthetriad.com
SUMMARY:Save The Day!!!
DESCRIPTION:All You Can Eat Pancakes. We will have pork/turkey sausage and bacon with side of eggs. Juice and coffee also will be served. \n
URL:https://lightthetriad.com/event/save-the-day/
LOCATION:Washington Terrance Community Center\, 101 Gordon St.\, High Point\, North Carolina\, 27260
END:VEVENT
END:VCALENDAR