BEGIN:VCALENDAR
VERSION:2.0
PRODID:-//Light the Triad - ECPv4.7.2//NONSGML v1.0//EN
CALSCALE:GREGORIAN
METHOD:PUBLISH
X-WR-CALNAME:Light the Triad
X-ORIGINAL-URL:https://lightthetriad.com
X-WR-CALDESC:Events for Light the Triad
BEGIN:VEVENT
DTSTART;TZID=America/New_York:20190627T170000
DTEND;TZID=America/New_York:20190630T190000
DTSTAMP:20260422T134041
CREATED:20190614T205230Z
LAST-MODIFIED:20190624T183522Z
UID:1311-1561654800-1561921200@lightthetriad.com
SUMMARY:Righteousness & Holiness a New Dawn in North America
DESCRIPTION:HOLINESS REVIVAL MOVEMENT WORLDWIDE NORTH AMERICA\npresents a 4 days holiness powerful program promoting righteousness and holiness worldwide. \nDate and Time – Day 1: Thursday\, June 27th Morning Session: Arrival of the participants Evening Session: 5:00 PM to 9:00 PM ​ Day 2: Friday\, June 28th Morning Session: 9:00 AM to 2:00 PM Evening Session: 5:00 PM to 9:00 PM Day 3: Saturday\, June 29th  Morning Session: 9:00 AM to 2:00 PM Evening Session: 5:00 PM to 9:00 PM Day 4: Sunday\, June 30th Fellowship with the Int’l Director: Between all session and programs the following will take place:  Baptism Counseling Q&A sessions \n
URL:https://lightthetriad.com/event/righteousness-holiness-a-new-dawn-in-north-america/
LOCATION:3776 Piney Mountain Road\, 3776 Piney Mountain Road\, Walnut Cove\, NC\, 27052
END:VEVENT
END:VCALENDAR