BEGIN:VCALENDAR
VERSION:2.0
PRODID:-//Light the Triad - ECPv4.7.2//NONSGML v1.0//EN
CALSCALE:GREGORIAN
METHOD:PUBLISH
X-WR-CALNAME:Light the Triad
X-ORIGINAL-URL:https://lightthetriad.com
X-WR-CALDESC:Events for Light the Triad
BEGIN:VEVENT
DTSTART;VALUE=DATE:20190724
DTEND;VALUE=DATE:20190729
DTSTAMP:20260422T062604
CREATED:20190723T184111Z
LAST-MODIFIED:20190723T184111Z
UID:1370-1563926400-1564358399@lightthetriad.com
SUMMARY:Pastoral Anniversary for Bishop Robert L. Wise\, Jr.
DESCRIPTION:The Macedonia Holiness Church Of God Of The Apostolic Faith\, Inc. will be having our Pastor Anniversary for Bishop Robert Wise\, Jr. from July 24\, 2019 through July 28\, 2019. Services will be held nightly at 7:30 P.M. on Wednesday thru Friday Nights. The Saturday evening service will start at 6:00 P.M. The Sunday service will begin at 11:00 A.M.\nWe have some dynamic speakers scheduled as we look to lift up the name of Jesus. We hope that you will be able to join us during this great celebration. \n
URL:https://lightthetriad.com/event/pastoral-anniversary-for-bishop-robert-l-wise-jr/
LOCATION:Macedonia Holiness Church of the Apostolic Faith\, Inc.\, 4111 Whitfield Rd\, Winston Salem\, NC\, 27105
END:VEVENT
END:VCALENDAR