BEGIN:VCALENDAR
VERSION:2.0
PRODID:-//Light the Triad - ECPv4.7.2//NONSGML v1.0//EN
CALSCALE:GREGORIAN
METHOD:PUBLISH
X-WR-CALNAME:Light the Triad
X-ORIGINAL-URL:https://lightthetriad.com
X-WR-CALDESC:Events for Light the Triad
BEGIN:VEVENT
DTSTART;TZID=America/New_York:20190728T100000
DTEND;TZID=America/New_York:20190728T130000
DTSTAMP:20260422T034048
CREATED:20190626T194552Z
LAST-MODIFIED:20190626T194552Z
UID:1332-1564308000-1564318800@lightthetriad.com
SUMMARY:Outside These 4 Walls Youth Day In the Park
DESCRIPTION:Fresh Fire Worship Center Inc. Bishop Phillip G.  McCloud is Senior Pastor -Presents Youth day in the park come enjoy Praise and Worship\, the word\, free food\, splash pad for the children and play area\, fellowship and fun! Something for the whole family! Don’t forget you lawn chairs for extra seating. \n
URL:https://lightthetriad.com/event/outside-these-4-walls-youth-day-in-the-park/
LOCATION:Sedge Garden Recreation Center\, 401 Robbins Rd.\, Winston Salem\, NC
END:VEVENT
END:VCALENDAR