BEGIN:VCALENDAR
VERSION:2.0
PRODID:-//Light the Triad - ECPv4.7.2//NONSGML v1.0//EN
CALSCALE:GREGORIAN
METHOD:PUBLISH
X-WR-CALNAME:Light the Triad
X-ORIGINAL-URL:https://lightthetriad.com
X-WR-CALDESC:Events for Light the Triad
BEGIN:VEVENT
DTSTART;TZID=America/New_York:20191015T170000
DTEND;TZID=America/New_York:20191015T200000
DTSTAMP:20260421T105048
CREATED:20191008T163711Z
LAST-MODIFIED:20191008T163711Z
UID:1475-1571158800-1571169600@lightthetriad.com
SUMMARY:Old Salem Sertoma Fundraiser
DESCRIPTION:Come out to help support Old Salem Sertoma\,(OSS) Club is a civic club in Winston-Salem\, North Carolina with 501(c)(3) non-profit status. We contribute to the community primarily through sponsorship of programs and agencies serving special needs children and persons of all ages with communicative disorders.\nPartnering with Biscuitville Breakfast after Dark to raise funds and enjoy a great meal. Mention Old Salem when you get your meal! \n
URL:https://lightthetriad.com/event/old-salem-sertoma-fundraiser/
LOCATION:Biscuitville Restaurant\, 3388 Robinhood Rd\, Winston-Salem\, NC\, 27106
END:VEVENT
END:VCALENDAR