BEGIN:VCALENDAR
VERSION:2.0
PRODID:-//Light the Triad - ECPv4.7.2//NONSGML v1.0//EN
CALSCALE:GREGORIAN
METHOD:PUBLISH
X-WR-CALNAME:Light the Triad
X-ORIGINAL-URL:https://lightthetriad.com
X-WR-CALDESC:Events for Light the Triad
BEGIN:VEVENT
DTSTART;VALUE=DATE:20190914
DTEND;VALUE=DATE:20190915
DTSTAMP:20260421T123642
CREATED:20190913T203157Z
LAST-MODIFIED:20190913T203157Z
UID:1439-1568419200-1568505599@lightthetriad.com
SUMMARY:Multi-Family Yard Sale
DESCRIPTION:We have different  items from baby clothes\, to house cleaning product bundles\, clothes\, shoes and other odds and ends. Come out and see if there is anything that you can take home with you and enjoy. \n
URL:https://lightthetriad.com/event/multi-family-yard-sale/
LOCATION:Eastgate Shopping Center\, Greensboro Rd\, High Point\, NC
END:VEVENT
END:VCALENDAR