BEGIN:VCALENDAR
VERSION:2.0
PRODID:-//Light the Triad - ECPv4.7.2//NONSGML v1.0//EN
CALSCALE:GREGORIAN
METHOD:PUBLISH
X-WR-CALNAME:Light the Triad
X-ORIGINAL-URL:https://lightthetriad.com
X-WR-CALDESC:Events for Light the Triad
BEGIN:VEVENT
DTSTART;TZID=America/New_York:20190526T133000
DTEND;TZID=America/New_York:20190526T170000
DTSTAMP:20260423T052320
CREATED:20190513T201634Z
LAST-MODIFIED:20190513T201634Z
UID:1251-1558877400-1558890000@lightthetriad.com
SUMMARY:Mt. Zion Baptist Church 130th Anniversary
DESCRIPTION:Mt. Zion Baptist Church is celebrating its 130th anniversary throughout the month of May. The celebration will culminate at a luncheon at 1:30 PM in the File-Goodwin Center at the church. The\nReverend Ray Watlington of Christian Fountain Baptist Church of Winston-Salem is the guest speaker. \nLuncheon ticket is $15.00 donation \n  \n
URL:https://lightthetriad.com/event/mt-zion-baptist-church-130th-anniversary/
LOCATION:Mt. Zion Baptist Church\, 950 File Street\, Winston-Salem\, NC
END:VEVENT
END:VCALENDAR