BEGIN:VCALENDAR
VERSION:2.0
PRODID:-//Light the Triad - ECPv4.7.2//NONSGML v1.0//EN
CALSCALE:GREGORIAN
METHOD:PUBLISH
X-WR-CALNAME:Light the Triad
X-ORIGINAL-URL:https://lightthetriad.com
X-WR-CALDESC:Events for Light the Triad
BEGIN:VEVENT
DTSTART;VALUE=DATE:20190426
DTEND;VALUE=DATE:20190428
DTSTAMP:20260424T004635
CREATED:20190313T182145Z
LAST-MODIFIED:20190313T182145Z
UID:1133-1556236800-1556409599@lightthetriad.com
SUMMARY:Missions Extravaganza 2019
DESCRIPTION:Men\, women and teens\, please join WMU of NC for this annual missions conference! Choose from a wide variety of break-out sessions including leadership\, missions\, spiritual development and more. These sessions will encourage\, refresh\, challenge and equip you for the mission field God has placed you in. This year the conference features a new missions track for children grade ages Kindergarten – 6! \n
URL:https://lightthetriad.com/event/missions-extravaganza-2019/
LOCATION:Trinity Baptist Church\, 4815 Six Forks Rd\, Raleigh\, North Carolina\, 27609
END:VEVENT
END:VCALENDAR