BEGIN:VCALENDAR
VERSION:2.0
PRODID:-//Light the Triad - ECPv4.7.2//NONSGML v1.0//EN
CALSCALE:GREGORIAN
METHOD:PUBLISH
X-WR-CALNAME:Light the Triad
X-ORIGINAL-URL:https://lightthetriad.com
X-WR-CALDESC:Events for Light the Triad
BEGIN:VEVENT
DTSTART;TZID=America/New_York:20190525T110000
DTEND;TZID=America/New_York:20190525T130000
DTSTAMP:20260423T063906
CREATED:20190402T163931Z
LAST-MODIFIED:20190402T163931Z
UID:1154-1558782000-1558789200@lightthetriad.com
SUMMARY:Missing Our Mom's
DESCRIPTION:A lunch and love event uniting women who have lost our mothers. This event will honor the lives of the women we’ve lost and the courageous daughters they left behind. We will celebrate them while lifting each other in love. \n
URL:https://lightthetriad.com/event/missing-our-moms/
LOCATION:Edward C. Smith Civic Center\, 217 S. Main St.\, Lexington\, NC\, 27292
END:VEVENT
END:VCALENDAR