BEGIN:VCALENDAR
VERSION:2.0
PRODID:-//Light the Triad - ECPv4.7.2//NONSGML v1.0//EN
CALSCALE:GREGORIAN
METHOD:PUBLISH
X-WR-CALNAME:Light the Triad
X-ORIGINAL-URL:https://lightthetriad.com
X-WR-CALDESC:Events for Light the Triad
BEGIN:VEVENT
DTSTART;VALUE=DATE:20190527
DTEND;VALUE=DATE:20190603
DTSTAMP:20260423T041735
CREATED:20190528T135453Z
LAST-MODIFIED:20190528T135453Z
UID:1282-1558915200-1559519999@lightthetriad.com
SUMMARY:Macedonia Holiness Church 39th Annual Holy Convocation
DESCRIPTION:The Macedonia Holiness Church Of God Of The Apostolic Faith\, Inc. will be having our 39th Annual Holy Convocation from May 27\, 2019 through June 2\, 2019. On Monday May 27th we will have a Founders Day Cookout from 11:30 A.M. to 4:30 P.M. The remaining services will be held nightly at 7:30 P.M. on Tuesday thru Friday Nights. The Saturday evening service will start at 6:00 P.M. Our theme for this year is:\n“JESUS IN YOU WANTS TO LIGHT UP THE WORLD WITH HIS LOVE”\nWe would like to invite you to join us on any night that you have the opportunity to.  We have some dynamic speakers scheduled as we look to lift up the name of Jesus. We hope that you will be able to join us during this week. \n
URL:https://lightthetriad.com/event/macedonia-holiness-church-39th-annual-holy-convocation/
LOCATION:Macedonia Holiness Church\, 4111 Whitfield Rd.\, Winston Salem\, NC\, 27105
END:VEVENT
END:VCALENDAR