BEGIN:VCALENDAR
VERSION:2.0
PRODID:-//Light the Triad - ECPv4.7.2//NONSGML v1.0//EN
CALSCALE:GREGORIAN
METHOD:PUBLISH
X-WR-CALNAME:Light the Triad
X-ORIGINAL-URL:https://lightthetriad.com
X-WR-CALDESC:Events for Light the Triad
BEGIN:VEVENT
DTSTART;VALUE=DATE:20190330
DTEND;VALUE=DATE:20190331
DTSTAMP:20260424T105824
CREATED:20190320T162244Z
LAST-MODIFIED:20190320T162244Z
UID:1144-1553904000-1553990399@lightthetriad.com
SUMMARY:Live Music Concert
DESCRIPTION:Concert to raise awareness and make donation to Abolition North Carolina\, an organization helping victims of human trafficking. Concert will feature: Serena Amor\, Valisa\, Sean Hunter\, and W.I.L. [Worship Is Life] \n  \n
URL:https://lightthetriad.com/event/live-music-concert/
LOCATION:Greensboro History Museum\, 130 Summit Avenue\, Greensboro\, NC
END:VEVENT
END:VCALENDAR