BEGIN:VCALENDAR
VERSION:2.0
PRODID:-//Light the Triad - ECPv4.7.2//NONSGML v1.0//EN
CALSCALE:GREGORIAN
METHOD:PUBLISH
X-WR-CALNAME:Light the Triad
X-ORIGINAL-URL:https://lightthetriad.com
X-WR-CALDESC:Events for Light the Triad
BEGIN:VEVENT
DTSTART;VALUE=DATE:20190611
DTEND;VALUE=DATE:20190612
DTSTAMP:20260422T225754
CREATED:20190605T180234Z
LAST-MODIFIED:20190605T180234Z
UID:1302-1560211200-1560297599@lightthetriad.com
SUMMARY:Judge Roland Hayes and Attorney Annie Brown Kennedy Scholarship Luncheon
DESCRIPTION:The Hon. Bobby F. Kimbrough (the first African-American Sheriff of Forsyth County) will be the guest speaker at the Winston-Salem Bar Association’s (WSBA) annual Judge Roland Hayes and Attorney Annie Brown Kennedy Scholarship Luncheon\, which is to be held on Tuesday\, June 11\, 2019 at 12:30 pm at New Jerusalem Baptist Church in Winston-Salem\, NC.  The Mistress of Ceremony for the event will be the esteemed\, Forsyth County District Court Judge\, Denise Hartsfield. \nThe WSBA will commemorate the lives and legacies of Judge Roland Hayes and Attorney Annie Brown Kennedy\, two trailblazing African-Americans in the Winston-Salem/Forsyth County legal community by awarding scholarships to area high school students in their honor. The winners of the scholarships will be chosen from essay submissions from 9-12th graders on the subject of the structure of the U.S. Government. Participating schools include Glenn High School\, Carter G. Woodson Institute\, Winston-Salem Preparatory Academy\, and Quality Education Academy. \n
URL:https://lightthetriad.com/event/judge-roland-hayes-and-attorney-annie-brown-kennedy-scholarship-luncheon/
LOCATION:New Jerusalem Missionary Baptist Church\, 1212 N. Dunlieth Ave.\, Winston-Salem\, NC\, 27101
END:VEVENT
END:VCALENDAR