BEGIN:VCALENDAR
VERSION:2.0
PRODID:-//Light the Triad - ECPv4.7.2//NONSGML v1.0//EN
CALSCALE:GREGORIAN
METHOD:PUBLISH
X-WR-CALNAME:Light the Triad
X-ORIGINAL-URL:https://lightthetriad.com
X-WR-CALDESC:Events for Light the Triad
BEGIN:VEVENT
DTSTART;VALUE=DATE:20190704
DTEND;VALUE=DATE:20190705
DTSTAMP:20260422T122027
CREATED:20190516T201220Z
LAST-MODIFIED:20190516T201220Z
UID:1268-1562198400-1562284799@lightthetriad.com
SUMMARY:Health and Career Expo
DESCRIPTION:Career Day is an opportunity for people who are looking for a job to come out and apply for a job regardless of a criminal background or not. We have door prizes\, motivational coach\, and computer access if people need to apply online. Companies can still partner with us to hire people for their company. Each vendor will receive a table and two chairs and lunch will be provided for vendors. I can be reached at 336-995-7661 \n
URL:https://lightthetriad.com/event/health-and-career-expo/
LOCATION:W.R Anderson/ Reynolds Park Recreation Center\, 2450 Reynolds Park Road
END:VEVENT
END:VCALENDAR