BEGIN:VCALENDAR
VERSION:2.0
PRODID:-//Light the Triad - ECPv4.7.2//NONSGML v1.0//EN
CALSCALE:GREGORIAN
METHOD:PUBLISH
X-WR-CALNAME:Light the Triad
X-ORIGINAL-URL:https://lightthetriad.com
X-WR-CALDESC:Events for Light the Triad
BEGIN:VEVENT
DTSTART;TZID=America/New_York:20190601T070000
DTEND;TZID=America/New_York:20190601T120000
DTSTAMP:20260423T011719
CREATED:20190523T140338Z
LAST-MODIFIED:20190523T140338Z
UID:1275-1559372400-1559390400@lightthetriad.com
SUMMARY:Hanes Memorial CME Community Yard Sale
DESCRIPTION:Purchase a table for only $20! Keep your profits!\nHot dogs and hamburgers for sale! Join us for fantastic bargains\, great food and raffles! \n$20 per table \n
URL:https://lightthetriad.com/event/hanes-memorial-cme-community-yard-sale/
LOCATION:Hanes Memorial CME\, 819 N Highland Ave\, Winston-Salem\, NC\, 27101
END:VEVENT
END:VCALENDAR