BEGIN:VCALENDAR
VERSION:2.0
PRODID:-//Light the Triad - ECPv4.7.2//NONSGML v1.0//EN
CALSCALE:GREGORIAN
METHOD:PUBLISH
X-WR-CALNAME:Light the Triad
X-ORIGINAL-URL:https://lightthetriad.com
X-WR-CALDESC:Events for Light the Triad
BEGIN:VEVENT
DTSTART;TZID=America/New_York:20190402T080000
DTEND;TZID=America/New_York:20190402T170000
DTSTAMP:20260424T065543
CREATED:20190402T164521Z
LAST-MODIFIED:20190402T164521Z
UID:1157-1554192000-1554224400@lightthetriad.com
SUMMARY:Feed My Sheep
DESCRIPTION:Food and clothing giveaway –  sponsored by the Missionary Ministry of New Jerusalem Missionary Baptist Church. Rev. Ronald E. Speas\, Pastor \n
URL:https://lightthetriad.com/event/feed-my-sheep/
LOCATION:New Jerusalem Missionary Baptist\, 1212 N. Dunleith Ave\, Winton-Salem\, NC
END:VEVENT
END:VCALENDAR