BEGIN:VCALENDAR
VERSION:2.0
PRODID:-//Light the Triad - ECPv4.7.2//NONSGML v1.0//EN
CALSCALE:GREGORIAN
METHOD:PUBLISH
X-WR-CALNAME:Light the Triad
X-ORIGINAL-URL:https://lightthetriad.com
X-WR-CALDESC:Events for Light the Triad
BEGIN:VEVENT
DTSTART;TZID=America/New_York:20190406T140000
DTEND;TZID=America/New_York:20190406T180000
DTSTAMP:20260424T042135
CREATED:20190402T163118Z
LAST-MODIFIED:20190402T163118Z
UID:1151-1554559200-1554573600@lightthetriad.com
SUMMARY:Denim\, Diamonds and Pearls
DESCRIPTION:Description – The Bennett College Greensboro Alumnae Chapter is hosting their annual scholarship fundraiser. This year’s Spring event is entitled “Denim\, Diamonds and Pearls on Saturday April 6\, 2019 from 2-6pm on the Campus of Bennett College at the Global Learning Center. The ticket cost is $40 each or reserved tables with extra treats at $500 a table those attending are encouraged to come dressy casual wearing denim\, bling and pearls. The event will be a fun social with dancing and music by Smooth Groves\, heavy hors d’oeuvres\, and plenty of raffles. \n$40 each ticket or $500 for a reserved table with extra treats \n
URL:https://lightthetriad.com/event/denim-diamonds-and-pearls/
LOCATION:Global Learning Center\, 521 Gorrell St.\, Greensboro\, NC\, 27401
END:VEVENT
END:VCALENDAR