BEGIN:VCALENDAR
VERSION:2.0
PRODID:-//Light the Triad - ECPv4.7.2//NONSGML v1.0//EN
CALSCALE:GREGORIAN
METHOD:PUBLISH
X-WR-CALNAME:Light the Triad
X-ORIGINAL-URL:https://lightthetriad.com
X-WR-CALDESC:Events for Light the Triad
BEGIN:VEVENT
DTSTART;TZID=America/New_York:20190825T110000
DTEND;TZID=America/New_York:20190825T150000
DTSTAMP:20260421T152245
CREATED:20190820T140040Z
LAST-MODIFIED:20190820T140040Z
UID:1410-1566730800-1566745200@lightthetriad.com
SUMMARY:Consecration Services for Church Mothers and Honorary Church Mothers of the church who are 80 years old and older
DESCRIPTION:Consecration Services for Church Mothers and Honorary Church Mothers of the church who are 80 years old and older \nFree and Open to the Public \nFor more information\, call 336-885-6512 or visit www.cogopstantonplace.org \n
URL:https://lightthetriad.com/event/consecration-services-for-church-mothers-and-honorary-church-mothers-of-the-church-who-are-80-years-old-and-older/
LOCATION:The Church of GOD of Prophecy\, 1100 Stanton Place\, High Point\, NC
END:VEVENT
END:VCALENDAR