BEGIN:VCALENDAR
VERSION:2.0
PRODID:-//Light the Triad - ECPv4.7.2//NONSGML v1.0//EN
CALSCALE:GREGORIAN
METHOD:PUBLISH
X-WR-CALNAME:Light the Triad
X-ORIGINAL-URL:https://lightthetriad.com
X-WR-CALDESC:Events for Light the Triad
BEGIN:VEVENT
DTSTART;TZID=America/New_York:20190326T173000
DTEND;TZID=America/New_York:20190326T193000
DTSTAMP:20260424T122337
CREATED:20190308T154557Z
LAST-MODIFIED:20190308T154557Z
UID:1125-1553621400-1553628600@lightthetriad.com
SUMMARY:Community Meeting
DESCRIPTION:The Memorial Industrial CDC is looking for comments and ideas on its plan to renovate the Memorial Industrial School property into an intergenerational village. This property operated from 1928-1971 as a black orphanage\, as is on the National Register of Historic Places. \n
URL:https://lightthetriad.com/event/community-meeting/
LOCATION:Red Bank Baptist Church\, 6405 Red Bank Road\, Germanton\, NC\, 27019
END:VEVENT
END:VCALENDAR