BEGIN:VCALENDAR
VERSION:2.0
PRODID:-//Light the Triad - ECPv4.7.2//NONSGML v1.0//EN
CALSCALE:GREGORIAN
METHOD:PUBLISH
X-WR-CALNAME:Light the Triad
X-ORIGINAL-URL:https://lightthetriad.com
X-WR-CALDESC:Events for Light the Triad
BEGIN:VEVENT
DTSTART;VALUE=DATE:20190601
DTEND;VALUE=DATE:20190602
DTSTAMP:20260423T040300
CREATED:20190513T183036Z
LAST-MODIFIED:20190513T183036Z
UID:1248-1559347200-1559433599@lightthetriad.com
SUMMARY:Community Fish Fry & Yard Sale
DESCRIPTION:Fish Plates/Sandwiches for sale and yard sale! All are welcome to attend! \n$7/plate OR $3.50 for sandwiches \n
URL:https://lightthetriad.com/event/community-fish-fry-yard-sale/
LOCATION:St. Philip’s Apostolic Church (on the front lawn)\, 1804 Claremont Ave.\, Winston Salem\, NC\, 27106
END:VEVENT
END:VCALENDAR