BEGIN:VCALENDAR
VERSION:2.0
PRODID:-//Light the Triad - ECPv4.7.2//NONSGML v1.0//EN
CALSCALE:GREGORIAN
METHOD:PUBLISH
X-WR-CALNAME:Light the Triad
X-ORIGINAL-URL:https://lightthetriad.com
X-WR-CALDESC:Events for Light the Triad
BEGIN:VEVENT
DTSTART;TZID=America/New_York:20190815T193000
DTEND;TZID=America/New_York:20190817T210000
DTSTAMP:20260421T204735
CREATED:20190815T193334Z
LAST-MODIFIED:20190815T193334Z
UID:1395-1565897400-1566075600@lightthetriad.com
SUMMARY:Community Deliverance Holiness Church
DESCRIPTION:Community Deliverance Holiness Church presents our Youth & Young Adult Conference. Our theme is “The Cry” \nWe would like to invite you out to worship and fellowship with us. We are expecting a mighty move of God. Please come out on Thursday and Friday night at 7:30p & then on Saturday morning at 10am  for our morning  manna. Following will  be a panel discussion. We will conclude Saturday with fun\, games\, and food. \nCome out and bring a friend. We would love to see you. \n
URL:https://lightthetriad.com/event/community-deliverance-holiness-church/
LOCATION:7609 Horney Road\, 7609 Horney Road\, High Point\, NC\, 27265
END:VEVENT
END:VCALENDAR