BEGIN:VCALENDAR
VERSION:2.0
PRODID:-//Light the Triad - ECPv4.7.2//NONSGML v1.0//EN
CALSCALE:GREGORIAN
METHOD:PUBLISH
X-WR-CALNAME:Light the Triad
X-ORIGINAL-URL:https://lightthetriad.com
X-WR-CALDESC:Events for Light the Triad
BEGIN:VEVENT
DTSTART;TZID=America/New_York:20190406T140000
DTEND;TZID=America/New_York:20190406T170000
DTSTAMP:20260424T053907
CREATED:20190228T160513Z
LAST-MODIFIED:20190228T160513Z
UID:1116-1554559200-1554570000@lightthetriad.com
SUMMARY:Center Stage Performing Arts Showcase
DESCRIPTION:Description – Miriam’s Dance Academy presents the 2019 Center Stage Performing Arts Showcase; Saturday\, April 6th at 2pm at the Van Dyke Performance Space\, downtown Greensboro. This local showcase is an amazing show featuring dancers from the state of NC including Suah African Dance Theatre\, Daliana Dance\, The Dance Project\, The Raleigh Rockers Crew and over 15 studios from the state of NC. The Center Stage Showcase brings dancers together to perform LIVE for the community. Tickets are on sale now at www.thevandyke.org and are only $12 plus tax / $18.00 at the door. Get yours today! \n
URL:https://lightthetriad.com/event/center-stage-performing-arts-showcase/
LOCATION:The Van Dyke Performance Space at the Greensboro Cultural Center\, 200 N. Davie Street\, Greensboro\, North Carolina\, 27401
END:VEVENT
END:VCALENDAR