BEGIN:VCALENDAR
VERSION:2.0
PRODID:-//Light the Triad - ECPv4.7.2//NONSGML v1.0//EN
CALSCALE:GREGORIAN
METHOD:PUBLISH
X-WR-CALNAME:Light the Triad
X-ORIGINAL-URL:https://lightthetriad.com
X-WR-CALDESC:Events for Light the Triad
BEGIN:VEVENT
DTSTART;TZID=America/New_York:20190518T150000
DTEND;TZID=America/New_York:20190518T170000
DTSTAMP:20260423T140043
CREATED:20190429T160348Z
LAST-MODIFIED:20190429T160348Z
UID:1213-1558191600-1558198800@lightthetriad.com
SUMMARY:Celebrating Seasoned Saints
DESCRIPTION:A Service Celebrating the Senior Generation in our Families\, Churches & Community\n*FREE Event for All Ages – Gospel Singing\, Praise Dancing & Prizes* \nCall for Information (336) 312-2125 \n
URL:https://lightthetriad.com/event/celebrating-seasoned-saints/
LOCATION:Godly Faith Christian Center\, 5606 Eckerson Road\, Greensboro\, NC\, 27405
END:VEVENT
END:VCALENDAR