BEGIN:VCALENDAR
VERSION:2.0
PRODID:-//Light the Triad - ECPv4.7.2//NONSGML v1.0//EN
CALSCALE:GREGORIAN
METHOD:PUBLISH
X-WR-CALNAME:Light the Triad
X-ORIGINAL-URL:https://lightthetriad.com
X-WR-CALDESC:Events for Light the Triad
BEGIN:VEVENT
DTSTART;VALUE=DATE:20191019
DTEND;VALUE=DATE:20191021
DTSTAMP:20260421T122108
CREATED:20190916T185836Z
LAST-MODIFIED:20190916T185836Z
UID:1447-1571443200-1571615999@lightthetriad.com
SUMMARY:Calvary Baptist Church Womens Conference & Women Day Program
DESCRIPTION:Calvary Baptist Church Women’s Ministry  will be celebrating their very first Women’s Conference on Saturday Oct 19\, 2019\, followed by a Women’s Day Program on Sunday Oct 20\, 2019.\nPlease come out and join us. We really look forward to having a wonderful time in fellowship and praising our Lord and Savior Jesus Christ. We will be graced by the presence of some very dynamic Women of God\,these Ladies will be bringing us a very powerful message from God. We will also have vendors present from around the traid area.\nPlease email: angeladay@bellsouth.net for registration forms and for any questions you may have concerning this event.  For registration payment please go to www.calvaryhighpoint.org.\nWe are excited and looking very much forward to worshipping with you.(You can also go to Calvary Baptist Church of High Point NC\, Facebook page for more information on the speakers. Please do not miss this wonderful event. We look forward to seeing you there. \nOct 19-2019: 9am-3pm & Oct 20\, 2019: 9am-10:15am \n
URL:https://lightthetriad.com/event/calvary-baptist-church-womens-conference-women-day-program/
LOCATION:808 Hilltop Street\, High Point NC\, 29260\, 808 Hilltop Street\, High Point\, NC\, 29260
END:VEVENT
END:VCALENDAR