BEGIN:VCALENDAR
VERSION:2.0
PRODID:-//Light the Triad - ECPv4.7.2//NONSGML v1.0//EN
CALSCALE:GREGORIAN
METHOD:PUBLISH
X-WR-CALNAME:Light the Triad
X-ORIGINAL-URL:https://lightthetriad.com
X-WR-CALDESC:Events for Light the Triad
BEGIN:VEVENT
DTSTART;TZID=America/New_York:20190518T160000
DTEND;TZID=America/New_York:20190518T180000
DTSTAMP:20260423T104703
CREATED:20190417T145754Z
LAST-MODIFIED:20190417T145754Z
UID:1180-1558195200-1558202400@lightthetriad.com
SUMMARY:Beyond Words
DESCRIPTION:Forever a Dancer Dance Academy 1st Annual Dance Showcase \n
URL:https://lightthetriad.com/event/beyond-words/
LOCATION:Carver High School Auditorium\, 3545 Carver School Rd.\, Winston-Salem\, NC\, 27105
END:VEVENT
END:VCALENDAR