BEGIN:VCALENDAR
VERSION:2.0
PRODID:-//Light the Triad - ECPv4.7.2//NONSGML v1.0//EN
CALSCALE:GREGORIAN
METHOD:PUBLISH
X-WR-CALNAME:Light the Triad
X-ORIGINAL-URL:https://lightthetriad.com
X-WR-CALDESC:Events for Light the Triad
BEGIN:VEVENT
DTSTART;TZID=America/New_York:20190606T083000
DTEND;TZID=America/New_York:20190608T163000
DTSTAMP:20260423T000030
CREATED:20190502T200052Z
LAST-MODIFIED:20190502T200052Z
UID:1222-1559809800-1560011400@lightthetriad.com
SUMMARY:Basic Chaplain Training
DESCRIPTION:Our non-profit\, Warrior Family Ministries will be coming to High Point\, NC to teach our Basic Chaplain Training course in June 2019. This training equips people to become first responders\, with knowledge and tools to respond to natural and man-made disasters. We also provide free counseling for our Veterans\, First-Responders\, and their families where our Chaplain companies are across the country. This three day training is full of important information for both the active responder and those wishing to serve within their communities. Please visit https://www.wfmchaplains.org or call our headquarters at (910) 769-2490 to find out what makes a WFM Chaplain different or to reserve your spot. \nIndividual $250\, Couples $450\, & LE\,F&R\,First Responders $150 \n
URL:https://lightthetriad.com/event/basic-chaplain-training/
LOCATION:First Day at High Point\, 8036 Bame Road\, Colfax\, NC\, 27235
END:VEVENT
END:VCALENDAR