BEGIN:VCALENDAR
VERSION:2.0
PRODID:-//Light the Triad - ECPv4.7.2//NONSGML v1.0//EN
CALSCALE:GREGORIAN
METHOD:PUBLISH
X-WR-CALNAME:Light the Triad
X-ORIGINAL-URL:https://lightthetriad.com
X-WR-CALDESC:Events for Light the Triad
BEGIN:VEVENT
DTSTART;TZID=America/New_York:20190809T110000
DTEND;TZID=America/New_York:20190809T160000
DTSTAMP:20260421T233719
CREATED:20190729T180818Z
LAST-MODIFIED:20190729T180818Z
UID:1381-1565348400-1565366400@lightthetriad.com
SUMMARY:Back 2 School Extravaganza
DESCRIPTION:This event is tailored to give back to the youth in our community here in Winston-Salem\, NC. It’s a Back to School community event. A fun day full of Free food\, games and water activities\, the biggest water ballon extravaganza and school supplies. Plus prizes to give away during the event. \n
URL:https://lightthetriad.com/event/back-2-school-extravaganza/
LOCATION:Blum Park\, 2401 Ivy Avenue\, Winston-Salem\, NC\, 27105
END:VEVENT
END:VCALENDAR