BEGIN:VCALENDAR
VERSION:2.0
PRODID:-//Light the Triad - ECPv4.7.2//NONSGML v1.0//EN
CALSCALE:GREGORIAN
METHOD:PUBLISH
X-WR-CALNAME:Light the Triad
X-ORIGINAL-URL:https://lightthetriad.com
X-WR-CALDESC:Events for Light the Triad
BEGIN:VEVENT
DTSTART;TZID=America/New_York:20190316T070000
DTEND;TZID=America/New_York:20190316T170000
DTSTAMP:20260424T135624
CREATED:20190108T203033Z
LAST-MODIFIED:20190108T204317Z
UID:1024-1552719600-1552755600@lightthetriad.com
SUMMARY:5K Fundraiser (Run\, Walk and Dog Jog)
DESCRIPTION:Greensboro Youth For Christ High School Campus Life is hosting a 5K on Saturday March 16th\, 2019 at Friendly Hills Church. Your entrance fee will go towards sending students to camp! Check out the camp here: https://www.youtube.com/watch?v=GJ4dQwvAaj8&t=111s \nSIGN UP BY FEBRUARY 8TH AT 5PM FOR A T-SHIRT\nREGISTER HERE: https://goo.gl/forms/5RdYnalbqPLjpTat2\nPAY HERE: https://ggyfc.givingfuel.com/campus-life-5k \nRunners – $25; Walkers and Dog Joggers – $15 \nOwn a business? Donate items or monies over $50 by February 8th at 5pm to get your business logo on our 5K T-shirt. Copy and paste the following link: https://goo.gl/forms/67vPy7ISH9SgDgZs2 \n
URL:https://lightthetriad.com/event/5k-fundraiser-run-walk-and-dog-jog/
LOCATION:1450 Guilford College Rd\, Jamestown\, NC 27282\, 1450 Guilford College Rd\, Jamestown\, NC\, 27282
END:VEVENT
END:VCALENDAR